{"text_format":"3","workbook":"xlsx","n_sheets":6,"sheets":["共通部分マスター","総括表","市区町村別","市区町村別 (2)","市区町村別 (3)","市区町村別 (4)"],"not_rendered":{"macros":1,"defined_names":5},"read":"whole","date_system":"1900"}

{"sheet":"共通部分マスター","index":0,"n_rows":24,"n_cols":5,"rows_kept":24,"merged":[[1,2,1,3]]}
[]
[null,null,"医療機関入力欄"]
[null,null,"請求先","広島県国民健康保険団体連合会　御中"]
[null,null,"施設等区分","1:医療機関"]
[null,null,"医療機関等コード"]
[null,null,"医療機関名"]
[null,null,"請求年月","2021年6月分","←毎月更新"]
[null,null,"医院所在地"]
[null,null,"代表者氏名"]
[null,null,"電話番号"]
[]
[null,null,"消費税率",10,"←消費税率改正時に修正"]
[]
[null,null,"【入力時の注意事項】"]
[null,null,"・医療機関コードは、半角10桁の番号で入力してください。"]
[null,null,"・医療機関名及び医師名は、１行あたり全角16文字以内におさめてください。"]
[null,null,"・市町村別の各請求書の欄外にて計算いただくと総括表まで仕上がる仕様です。"]
[]
[null,null,"①健診・HI法",{"v":1290,"d":"1,290 "}]
[null,null,"②健診・EIA法",{"v":2680,"d":"2,680 "}]
[null,null,"③HI法",{"v":4930,"d":"4,930 "}]
[null,null,"④EIA法",{"v":6320,"d":"6,320 "}]
[null,null,"⑤夜間休日・HI法",{"v":5430,"d":"5,430 "}]
[null,null,"⑥夜間休日・EIA法",{"v":6820,"d":"6,820 "}]

{"sheet":"総括表","index":1,"n_rows":35,"n_cols":7,"rows_kept":35,"merged":[[9,1,9,7],[13,4,13,5],[20,2,20,3],[21,1,27,1],[21,2,21,3],[22,2,22,3],[23,2,23,3],[24,2,24,3],[25,2,25,3],[26,2,26,3],[27,2,27,3],[28,1,30,1],[28,2,28,3],[29,2,29,3],[30,2,30,3],[31,1,31,3]]}
[]
[]
[null,{"$f":"共通部分マスター!D3","v":"広島県国民健康保険団体連合会　御中"}]
[]
[{"$nulls":4},{"$f":"共通部分マスター!D8","v":0}]
[null,"　　　　",null,null,"開設者氏名",{"$f":"共通部分マスター!D9","v":0}]
[{"$nulls":4},"電話番号",{"$f":"共通部分マスター!D10","v":0}]
[]
[]
[null,"　風しん対策　請求総括書（実績報告書）"]
[]
[]
[null,"施設等区分",null,null,{"$f":"共通部分マスター!D4","v":"1:医療機関"}]
[null,"医療機関・健診機関番号",null,null,{"$f":"共通部分マスター!D5","v":0}]
[null,"医療機関・健診機関名称",null,null,{"$f":"共通部分マスター!D6","v":0}]
[null,"請求年月",null,null,{"$f":"共通部分マスター!D7","v":"2021年6月分"}]
[]
[]
[]
[]
[null,null,"区分",null,"請求件数","請求金額\n（税抜）","請求金額\n（税込）"]
[null,"抗体検査","①健診・HI法",null,{"v":0,"d":"0 "},{"v":0,"d":"0 "},{"v":0,"d":"0 "}]
[null,null,"②健診・EIA法",null,{"v":0,"d":"0 "},{"v":0,"d":"0 "},{"v":0,"d":"0 "}]
[null,null,"③HI法",null,{"v":0,"d":"0 "},{"v":0,"d":"0 "},{"v":0,"d":"0 "}]
[null,null,"④EIA法",null,{"v":0,"d":"0 "},{"v":0,"d":"0 "},{"v":0,"d":"0 "}]
[null,null,"⑤夜間休日・HI法",null,{"v":0,"d":"0 "},{"v":0,"d":"0 "},{"v":0,"d":"0 "}]
[null,null,"⑥夜間休日・EIA法",null,{"v":0,"d":"0 "},{"v":0,"d":"0 "},{"v":0,"d":"0 "}]
[null,null,"小計",null,{"$f":"SUM(E22:E27)","v":{"v":0,"d":"0 "}},{"$f":"SUM(F22:F27)","v":{"v":0,"d":"0 "}},{"$f":"SUM(G22:G27)","v":{"v":0,"d":"0 "}}]
[null,"予防接種","通常",null,{"v":0,"d":"0 "},{"v":0,"d":"0 "},{"v":0,"d":"0 "}]
[null,null,"予診のみ",null,{"v":0,"d":"0 "},{"v":0,"d":"0 "},{"v":0,"d":"0 "}]
[null,null,"小計",null,{"$f":"SUM(E29:E30)","v":{"v":0,"d":"0 "}},{"$f":"SUM(F29:F30)","v":{"v":0,"d":"0 "}},{"$f":"SUM(G29:G30)","v":{"v":0,"d":"0 "}}]
[null,"合計",null,null,{"$f":"E28+E31","v":{"v":0,"d":"0 "}},{"$f":"F28+F31","v":{"v":0,"d":"0 "}},{"$f":"G28+G31","v":{"v":0,"d":"0 "}}]
[null,"※予診のみの費用を市区町村が設定していない場合（０円の場合）は、本総括書に"]
[null,"計上しないこと。その場合、予診票の原本を国民健康保険団体連合会に送付しない"]
[null,"こと。"]

{"sheet":"市区町村別","index":2,"n_rows":38,"n_cols":23,"rows_kept":38,"merged":[[10,1,10,11],[13,8,13,9],[22,1,28,3],[22,4,22,7],[22,14,28,14],[22,15,22,16],[23,4,23,7],[23,15,23,16],[24,4,24,7],[24,15,24,16],[25,4,25,7],[25,15,25,16],[26,4,26,7],[26,15,26,16],[27,4,27,7],[27,15,27,16],[28,4,28,7],[28,15,28,16],[29,1,31,3],[29,4,29,7],[29,14,31,14],[29,15,29,16],[30,4,30,7],[30,15,30,16],[31,4,31,7],[31,15,31,16],[32,1,32,7],[32,14,32,16]]}
[]
[null,"○○○市区町村長様"]
[null,"市区町村番号"]
[]
[]
[{"$nulls":8},{"$f":"共通部分マスター!D8","v":0}]
[null,"　　　　",{"$nulls":6},"開設者氏名",{"$f":"共通部分マスター!D9","v":0}]
[{"$nulls":8},"電話番号",{"$f":"共通部分マスター!D10","v":0}]
[]
[]
[null,"風しん対策　市区町村別請求書"]
[]
[]
[null,"医療機関・健診機関番号",{"$nulls":6},{"$f":"共通部分マスター!D5","v":0}]
[null,"医療機関・健診機関名称",{"$nulls":6},{"$f":"共通部分マスター!D6","v":0}]
[null,"請求年月",{"$nulls":6},{"$f":"共通部分マスター!D7","v":"2021年6月分"}]
[]
[]
[]
[]
[{"$nulls":14},"【計算スペース】※こちらに件数を記入すると請求書が埋まっていきます"]
[{"$nulls":8},"請求件数","請求金額\n（税抜）","請求金額\n（税込）",{"$nulls":6},"請求件数","税抜き単価","税込み単価","請求総額（税抜き）\n※システムエラーのチェック用","請求総額（税込み）"]
[null,"抗体検査",null,null,"①健診・HI法",{"$nulls":3},{"$f":"R23","v":0},{"$f":"U23","v":{"v":0,"d":"0 "}},{"$f":"V23","v":{"v":0,"d":"0 "}},{"$nulls":3},"抗体検査","①健診・HI法",null,null,{"$f":"共通部分マスター!D19","v":{"v":1290,"d":"1,290 "}},{"$f":"ROUNDDOWN(S23*(1+(共通部分マスター!$D$12)/100),0)","v":{"v":1419,"d":"1,419 "}},{"$f":"S23*R23","v":{"v":0,"d":"0 "}},{"$f":"T23*R23","v":{"v":0,"d":"0 "}}]
[{"$nulls":4},"②健診・EIA法",{"$nulls":3},0,{"v":0,"d":"0 "},{"v":0,"d":"0 "},{"$nulls":4},"②健診・EIA法",null,null,{"$f":"共通部分マスター!D20","v":{"v":2680,"d":"2,680 "}},{"$f":"ROUNDDOWN(S24*(1+(共通部分マスター!$D$12)/100),0)","v":{"v":2948,"d":"2,948 "}},{"v":0,"d":"0 "},{"v":0,"d":"0 "}]
[{"$nulls":4},"③HI法",{"$nulls":3},0,{"v":0,"d":"0 "},{"v":0,"d":"0 "},{"$nulls":4},"③HI法",null,null,{"$f":"共通部分マスター!D21","v":{"v":4930,"d":"4,930 "}},{"$f":"ROUNDDOWN(S25*(1+(共通部分マスター!$D$12)/100),0)","v":{"v":5423,"d":"5,423 "}},{"v":0,"d":"0 "},{"v":0,"d":"0 "}]
[{"$nulls":4},"④EIA法",{"$nulls":3},0,{"v":0,"d":"0 "},{"v":0,"d":"0 "},{"$nulls":4},"④EIA法",null,null,{"$f":"共通部分マスター!D22","v":{"v":6320,"d":"6,320 "}},{"$f":"ROUNDDOWN(S26*(1+(共通部分マスター!$D$12)/100),0)","v":{"v":6952,"d":"6,952 "}},{"v":0,"d":"0 "},{"v":0,"d":"0 "}]
[{"$nulls":4},"⑤夜間休日・HI法",{"$nulls":3},0,{"v":0,"d":"0 "},{"v":0,"d":"0 "},{"$nulls":4},"⑤夜間休日・HI法",null,null,{"$f":"共通部分マスター!D23","v":{"v":5430,"d":"5,430 "}},{"$f":"ROUNDDOWN(S27*(1+(共通部分マスター!$D$12)/100),0)","v":{"v":5973,"d":"5,973 "}},{"v":0,"d":"0 "},{"v":0,"d":"0 "}]
[{"$nulls":4},"⑥夜間休日・EIA法",{"$nulls":3},0,{"v":0,"d":"0 "},{"v":0,"d":"0 "},{"$nulls":4},"⑥夜間休日・EIA法",null,null,{"$f":"共通部分マスター!D24","v":{"v":6820,"d":"6,820 "}},{"$f":"ROUNDDOWN(S28*(1+(共通部分マスター!$D$12)/100),0)","v":{"v":7502,"d":"7,502 "}},{"v":0,"d":"0 "},{"v":0,"d":"0 "}]
[{"$nulls":4},"小計",{"$nulls":3},0,{"v":0,"d":"0 "},{"v":0,"d":"0 "},{"$nulls":4},"小計",null,{"$f":"SUM(R23:R28)","v":0},null,null,{"$f":"SUM(U23:U28)","v":{"v":0,"d":"0 "}},{"$f":"SUM(V23:V28)","v":{"v":0,"d":"0 "}}]
[null,"予防接種",null,null,"通常",{"$nulls":3},0,{"v":0,"d":"0 "},{"v":0,"d":"0 "},{"$nulls":3},"予防接種","通常",{"$nulls":3},{"$f":"ROUNDDOWN(S30*(1+(共通部分マスター!$D$12)/100),0)","v":{"v":0,"d":"0 "}},{"$f":"S30*R30","v":{"v":0,"d":"0 "}},{"$f":"T30*R30","v":{"v":0,"d":"0 "}},"←予防接種関係の価格は市区町村で決定いたします。クーポンの下５桁に記載の金額を記載ください。"]
[{"$nulls":4},"予診のみ",{"$nulls":3},0,{"v":0,"d":"0 "},{"v":0,"d":"0 "},{"$nulls":4},"予診のみ",{"$nulls":3},{"$f":"ROUNDDOWN(S31*(1+(共通部分マスター!$D$12)/100),0)","v":{"v":0,"d":"0 "}},{"$f":"S31*R31","v":{"v":0,"d":"0 "}},{"$f":"T31*R31","v":{"v":0,"d":"0 "}},"  ※税込単価は、１円未満の端数は切り捨て"]
[{"$nulls":4},"小計",{"$nulls":3},0,{"$f":"SUM(J30:J31)","v":0},{"$f":"SUM(K30:K31)","v":0},{"$nulls":4},"小計",null,{"$f":"SUM(R30:R31)","v":0},null,null,{"$f":"SUM(U30:U31)","v":{"v":0,"d":"0 "}},{"$f":"SUM(V30:V31)","v":{"v":0,"d":"0 "}},"　※予診のみの費用を市町村が設定していない場合（０円の場合）は、本請求書に計上しないこと。その場合、予診票の原本を国民健康保険団体連合会に送付しないこと。"]
[null,"合計",{"$nulls":6},0,{"$f":"J32+J29","v":{"v":0,"d":"0 "}},{"$f":"K32+K29","v":{"v":0,"d":"0 "}},{"$nulls":3},"合計",null,null,{"$f":"R32+R29","v":0},null,null,{"$f":"U32+U29","v":{"v":0,"d":"0 "}},{"$f":"V32+V29","v":{"v":0,"d":"0 "}}]
[]
[{"$nulls":9},"消費税率",{"$f":"共通部分マスター!D12","v":10},"％"]
[null,"※予診のみの費用を市区町村が設定していない場合（０円の場合）は、本請"]
[null,"求書に計上しないこと。その場合、予診票の原本を国民健康保険団体連合会"]
[null,"に送付しないこと。"]

{"sheet":"市区町村別 (2)","index":3,"n_rows":38,"n_cols":23,"rows_kept":38,"merged":[[10,1,10,11],[13,8,13,9],[22,1,28,3],[22,4,22,7],[22,14,28,14],[22,15,22,16],[23,4,23,7],[23,15,23,16],[24,4,24,7],[24,15,24,16],[25,4,25,7],[25,15,25,16],[26,4,26,7],[26,15,26,16],[27,4,27,7],[27,15,27,16],[28,4,28,7],[28,15,28,16],[29,1,31,3],[29,4,29,7],[29,14,31,14],[29,15,29,16],[30,4,30,7],[30,15,30,16],[31,4,31,7],[31,15,31,16],[32,1,32,7],[32,14,32,16]]}
[]
[null,"○○○市区町村長様"]
[null,"市区町村番号"]
[]
[]
[{"$nulls":8},{"$f":"共通部分マスター!D8","v":0}]
[null,"　　　　",{"$nulls":6},"開設者氏名",{"$f":"共通部分マスター!D9","v":0}]
[{"$nulls":8},"電話番号",{"$f":"共通部分マスター!D10","v":0}]
[]
[]
[null,"風しん対策　市区町村別請求書"]
[]
[]
[null,"医療機関・健診機関番号",{"$nulls":6},{"$f":"共通部分マスター!D5","v":0}]
[null,"医療機関・健診機関名称",{"$nulls":6},{"$f":"共通部分マスター!D6","v":0}]
[null,"請求年月",{"$nulls":6},{"$f":"共通部分マスター!D7","v":"2021年6月分"}]
[]
[]
[]
[]
[{"$nulls":14},"【計算スペース】※こちらに件数を記入すると請求書が埋まっていきます"]
[{"$nulls":8},"請求件数","請求金額\n（税抜）","請求金額\n（税込）",{"$nulls":6},"請求件数","税抜き単価","税込み単価","請求総額（税抜き）\n※システムエラーのチェック用","請求総額（税込み）"]
[null,"抗体検査",null,null,"①健診・HI法",{"$nulls":3},{"$f":"R23","v":0},{"$f":"U23","v":{"v":0,"d":"0 "}},{"v":0,"d":"0 "},{"$nulls":3},"抗体検査","①健診・HI法",null,null,{"$f":"共通部分マスター!D19","v":{"v":1290,"d":"1,290 "}},{"$f":"ROUNDDOWN(S23*(1+(共通部分マスター!$D$12)/100),0)","v":{"v":1419,"d":"1,419 "}},{"$f":"S23*R23","v":{"v":0,"d":"0 "}},{"$f":"T23*R23","v":{"v":0,"d":"0 "}}]
[{"$nulls":4},"②健診・EIA法",{"$nulls":3},0,{"v":0,"d":"0 "},{"v":0,"d":"0 "},{"$nulls":4},"②健診・EIA法",null,null,{"$f":"共通部分マスター!D20","v":{"v":2680,"d":"2,680 "}},{"$f":"ROUNDDOWN(S24*(1+(共通部分マスター!$D$12)/100),0)","v":{"v":2948,"d":"2,948 "}},{"v":0,"d":"0 "},{"$f":"T24*R24","v":{"v":0,"d":"0 "}}]
[{"$nulls":4},"③HI法",{"$nulls":3},0,{"v":0,"d":"0 "},{"v":0,"d":"0 "},{"$nulls":4},"③HI法",null,null,{"$f":"共通部分マスター!D21","v":{"v":4930,"d":"4,930 "}},{"$f":"ROUNDDOWN(S25*(1+(共通部分マスター!$D$12)/100),0)","v":{"v":5423,"d":"5,423 "}},{"v":0,"d":"0 "},{"v":0,"d":"0 "}]
[{"$nulls":4},"④EIA法",{"$nulls":3},0,{"v":0,"d":"0 "},{"v":0,"d":"0 "},{"$nulls":4},"④EIA法",null,null,{"$f":"共通部分マスター!D22","v":{"v":6320,"d":"6,320 "}},{"$f":"ROUNDDOWN(S26*(1+(共通部分マスター!$D$12)/100),0)","v":{"v":6952,"d":"6,952 "}},{"v":0,"d":"0 "},{"v":0,"d":"0 "}]
[{"$nulls":4},"⑤夜間休日・HI法",{"$nulls":3},0,{"v":0,"d":"0 "},{"v":0,"d":"0 "},{"$nulls":4},"⑤夜間休日・HI法",null,null,{"$f":"共通部分マスター!D23","v":{"v":5430,"d":"5,430 "}},{"$f":"ROUNDDOWN(S27*(1+(共通部分マスター!$D$12)/100),0)","v":{"v":5973,"d":"5,973 "}},{"v":0,"d":"0 "},{"v":0,"d":"0 "}]
[{"$nulls":4},"⑥夜間休日・EIA法",{"$nulls":3},0,{"v":0,"d":"0 "},{"v":0,"d":"0 "},{"$nulls":4},"⑥夜間休日・EIA法",null,null,{"$f":"共通部分マスター!D24","v":{"v":6820,"d":"6,820 "}},{"$f":"ROUNDDOWN(S28*(1+(共通部分マスター!$D$12)/100),0)","v":{"v":7502,"d":"7,502 "}},{"v":0,"d":"0 "},{"v":0,"d":"0 "}]
[{"$nulls":4},"小計",{"$nulls":3},0,{"v":0,"d":"0 "},{"v":0,"d":"0 "},{"$nulls":4},"小計",null,{"$f":"SUM(R23:R28)","v":0},null,null,{"$f":"SUM(U23:U28)","v":{"v":0,"d":"0 "}},{"$f":"SUM(V23:V28)","v":{"v":0,"d":"0 "}}]
[null,"予防接種",null,null,"通常",{"$nulls":3},0,{"v":0,"d":"0 "},{"v":0,"d":"0 "},{"$nulls":3},"予防接種","通常",{"$nulls":3},{"$f":"ROUNDDOWN(S30*(1+(共通部分マスター!$D$12)/100),0)","v":{"v":0,"d":"0 "}},{"$f":"S30*R30","v":{"v":0,"d":"0 "}},{"$f":"T30*R30","v":{"v":0,"d":"0 "}},"←予防接種関係の価格は市区町村で決定いたします。クーポンの下５桁に記載の金額を記載ください。"]
[{"$nulls":4},"予診のみ",{"$nulls":3},0,{"v":0,"d":"0 "},{"v":0,"d":"0 "},{"$nulls":4},"予診のみ",{"$nulls":3},{"$f":"ROUNDDOWN(S31*(1+(共通部分マスター!$D$12)/100),0)","v":{"v":0,"d":"0 "}},{"$f":"S31*R31","v":{"v":0,"d":"0 "}},{"$f":"T31*R31","v":{"v":0,"d":"0 "}},"  ※税込単価は、１円未満の端数は切り捨て"]
[{"$nulls":4},"小計",{"$nulls":3},0,{"$f":"SUM(J30:J31)","v":0},{"$f":"SUM(K30:K31)","v":0},{"$nulls":4},"小計",null,{"$f":"SUM(R30:R31)","v":0},null,null,{"$f":"SUM(U30:U31)","v":{"v":0,"d":"0 "}},{"$f":"SUM(V30:V31)","v":{"v":0,"d":"0 "}},"　※予診のみの費用を市町村が設定していない場合（０円の場合）は、本請求書に計上しないこと。その場合、予診票の原本を国民健康保険団体連合会に送付しないこと。"]
[null,"合計",{"$nulls":6},0,{"$f":"J32+J29","v":{"v":0,"d":"0 "}},{"$f":"K32+K29","v":{"v":0,"d":"0 "}},{"$nulls":3},"合計",null,null,{"$f":"R32+R29","v":0},null,null,{"$f":"U32+U29","v":{"v":0,"d":"0 "}},{"$f":"V32+V29","v":{"v":0,"d":"0 "}}]
[]
[{"$nulls":9},"消費税率",{"$f":"共通部分マスター!D12","v":10},"％"]
[null,"※予診のみの費用を市区町村が設定していない場合（０円の場合）は、本請"]
[null,"求書に計上しないこと。その場合、予診票の原本を国民健康保険団体連合会"]
[null,"に送付しないこと。"]

{"sheet":"市区町村別 (3)","index":4,"n_rows":38,"n_cols":23,"rows_kept":38,"merged":[[10,1,10,11],[13,8,13,9],[22,1,28,3],[22,4,22,7],[22,14,28,14],[22,15,22,16],[23,4,23,7],[23,15,23,16],[24,4,24,7],[24,15,24,16],[25,4,25,7],[25,15,25,16],[26,4,26,7],[26,15,26,16],[27,4,27,7],[27,15,27,16],[28,4,28,7],[28,15,28,16],[29,1,31,3],[29,4,29,7],[29,14,31,14],[29,15,29,16],[30,4,30,7],[30,15,30,16],[31,4,31,7],[31,15,31,16],[32,1,32,7],[32,14,32,16]]}
[]
[null,"○○○市区町村長様"]
[null,"市区町村番号"]
[]
[]
[{"$nulls":8},{"$f":"共通部分マスター!D8","v":0}]
[null,"　　　　",{"$nulls":6},"開設者氏名",{"$f":"共通部分マスター!D9","v":0}]
[{"$nulls":8},"電話番号",{"$f":"共通部分マスター!D10","v":0}]
[]
[]
[null,"風しん対策　市区町村別請求書"]
[]
[]
[null,"医療機関・健診機関番号",{"$nulls":6},{"$f":"共通部分マスター!D5","v":0}]
[null,"医療機関・健診機関名称",{"$nulls":6},{"$f":"共通部分マスター!D6","v":0}]
[null,"請求年月",{"$nulls":6},{"$f":"共通部分マスター!D7","v":"2021年6月分"}]
[]
[]
[]
[]
[{"$nulls":14},"【計算スペース】※こちらに件数を記入すると請求書が埋まっていきます"]
[{"$nulls":8},"請求件数","請求金額\n（税抜）","請求金額\n（税込）",{"$nulls":6},"請求件数","税抜き単価","税込み単価","請求総額（税抜き）\n※システムエラーのチェック用","請求総額（税込み）"]
[null,"抗体検査",null,null,"①健診・HI法",{"$nulls":3},{"$f":"R23","v":0},{"$f":"U23","v":{"v":0,"d":"0 "}},{"v":0,"d":"0 "},{"$nulls":3},"抗体検査","①健診・HI法",null,null,{"$f":"共通部分マスター!D19","v":{"v":1290,"d":"1,290 "}},{"$f":"ROUNDDOWN(S23*(1+(共通部分マスター!$D$12)/100),0)","v":{"v":1419,"d":"1,419 "}},{"$f":"S23*R23","v":{"v":0,"d":"0 "}},{"$f":"T23*R23","v":{"v":0,"d":"0 "}}]
[{"$nulls":4},"②健診・EIA法",{"$nulls":3},0,{"v":0,"d":"0 "},{"v":0,"d":"0 "},{"$nulls":4},"②健診・EIA法",null,null,{"$f":"共通部分マスター!D20","v":{"v":2680,"d":"2,680 "}},{"$f":"ROUNDDOWN(S24*(1+(共通部分マスター!$D$12)/100),0)","v":{"v":2948,"d":"2,948 "}},{"v":0,"d":"0 "},{"$f":"T24*R24","v":{"v":0,"d":"0 "}}]
[{"$nulls":4},"③HI法",{"$nulls":3},0,{"v":0,"d":"0 "},{"v":0,"d":"0 "},{"$nulls":4},"③HI法",null,null,{"$f":"共通部分マスター!D21","v":{"v":4930,"d":"4,930 "}},{"$f":"ROUNDDOWN(S25*(1+(共通部分マスター!$D$12)/100),0)","v":{"v":5423,"d":"5,423 "}},{"v":0,"d":"0 "},{"v":0,"d":"0 "}]
[{"$nulls":4},"④EIA法",{"$nulls":3},0,{"v":0,"d":"0 "},{"v":0,"d":"0 "},{"$nulls":4},"④EIA法",null,null,{"$f":"共通部分マスター!D22","v":{"v":6320,"d":"6,320 "}},{"$f":"ROUNDDOWN(S26*(1+(共通部分マスター!$D$12)/100),0)","v":{"v":6952,"d":"6,952 "}},{"v":0,"d":"0 "},{"v":0,"d":"0 "}]
[{"$nulls":4},"⑤夜間休日・HI法",{"$nulls":3},0,{"v":0,"d":"0 "},{"v":0,"d":"0 "},{"$nulls":4},"⑤夜間休日・HI法",null,null,{"$f":"共通部分マスター!D23","v":{"v":5430,"d":"5,430 "}},{"$f":"ROUNDDOWN(S27*(1+(共通部分マスター!$D$12)/100),0)","v":{"v":5973,"d":"5,973 "}},{"v":0,"d":"0 "},{"v":0,"d":"0 "}]
[{"$nulls":4},"⑥夜間休日・EIA法",{"$nulls":3},0,{"v":0,"d":"0 "},{"v":0,"d":"0 "},{"$nulls":4},"⑥夜間休日・EIA法",null,null,{"$f":"共通部分マスター!D24","v":{"v":6820,"d":"6,820 "}},{"$f":"ROUNDDOWN(S28*(1+(共通部分マスター!$D$12)/100),0)","v":{"v":7502,"d":"7,502 "}},{"v":0,"d":"0 "},{"v":0,"d":"0 "}]
[{"$nulls":4},"小計",{"$nulls":3},0,{"v":0,"d":"0 "},{"v":0,"d":"0 "},{"$nulls":4},"小計",null,{"$f":"SUM(R23:R28)","v":0},null,null,{"$f":"SUM(U23:U28)","v":{"v":0,"d":"0 "}},{"$f":"SUM(V23:V28)","v":{"v":0,"d":"0 "}}]
[null,"予防接種",null,null,"通常",{"$nulls":3},0,{"v":0,"d":"0 "},{"v":0,"d":"0 "},{"$nulls":3},"予防接種","通常",{"$nulls":3},{"$f":"ROUNDDOWN(S30*(1+(共通部分マスター!$D$12)/100),0)","v":{"v":0,"d":"0 "}},{"$f":"S30*R30","v":{"v":0,"d":"0 "}},{"$f":"T30*R30","v":{"v":0,"d":"0 "}},"←予防接種関係の価格は市区町村で決定いたします。クーポンの下５桁に記載の金額を記載ください。"]
[{"$nulls":4},"予診のみ",{"$nulls":3},0,{"v":0,"d":"0 "},{"v":0,"d":"0 "},{"$nulls":4},"予診のみ",{"$nulls":3},{"$f":"ROUNDDOWN(S31*(1+(共通部分マスター!$D$12)/100),0)","v":{"v":0,"d":"0 "}},{"$f":"S31*R31","v":{"v":0,"d":"0 "}},{"$f":"T31*R31","v":{"v":0,"d":"0 "}},"  ※税込単価は、１円未満の端数は切り捨て"]
[{"$nulls":4},"小計",{"$nulls":3},0,{"$f":"SUM(J30:J31)","v":0},{"$f":"SUM(K30:K31)","v":0},{"$nulls":4},"小計",null,{"$f":"SUM(R30:R31)","v":0},null,null,{"$f":"SUM(U30:U31)","v":{"v":0,"d":"0 "}},{"$f":"SUM(V30:V31)","v":{"v":0,"d":"0 "}},"　※予診のみの費用を市町村が設定していない場合（０円の場合）は、本請求書に計上しないこと。その場合、予診票の原本を国民健康保険団体連合会に送付しないこと。"]
[null,"合計",{"$nulls":6},0,{"$f":"J32+J29","v":{"v":0,"d":"0 "}},{"$f":"K32+K29","v":{"v":0,"d":"0 "}},{"$nulls":3},"合計",null,null,{"$f":"R32+R29","v":0},null,null,{"$f":"U32+U29","v":{"v":0,"d":"0 "}},{"$f":"V32+V29","v":{"v":0,"d":"0 "}}]
[]
[{"$nulls":9},"消費税率",{"$f":"共通部分マスター!D12","v":10},"％"]
[null,"※予診のみの費用を市区町村が設定していない場合（０円の場合）は、本請"]
[null,"求書に計上しないこと。その場合、予診票の原本を国民健康保険団体連合会"]
[null,"に送付しないこと。"]

{"sheet":"市区町村別 (4)","index":5,"n_rows":38,"n_cols":23,"rows_kept":38,"merged":[[10,1,10,11],[13,8,13,9],[22,1,28,3],[22,4,22,7],[22,14,28,14],[22,15,22,16],[23,4,23,7],[23,15,23,16],[24,4,24,7],[24,15,24,16],[25,4,25,7],[25,15,25,16],[26,4,26,7],[26,15,26,16],[27,4,27,7],[27,15,27,16],[28,4,28,7],[28,15,28,16],[29,1,31,3],[29,4,29,7],[29,14,31,14],[29,15,29,16],[30,4,30,7],[30,15,30,16],[31,4,31,7],[31,15,31,16],[32,1,32,7],[32,14,32,16]]}
[]
[null,"○○○市区町村長様"]
[null,"市区町村番号"]
[]
[]
[{"$nulls":8},{"$f":"共通部分マスター!D8","v":0}]
[null,"　　　　",{"$nulls":6},"開設者氏名",{"$f":"共通部分マスター!D9","v":0}]
[{"$nulls":8},"電話番号",{"$f":"共通部分マスター!D10","v":0}]
[]
[]
[null,"風しん対策　市区町村別請求書"]
[]
[]
[null,"医療機関・健診機関番号",{"$nulls":6},{"$f":"共通部分マスター!D5","v":0}]
[null,"医療機関・健診機関名称",{"$nulls":6},{"$f":"共通部分マスター!D6","v":0}]
[null,"請求年月",{"$nulls":6},{"$f":"共通部分マスター!D7","v":"2021年6月分"}]
[]
[]
[]
[]
[{"$nulls":14},"【計算スペース】※こちらに件数を記入すると請求書が埋まっていきます"]
[{"$nulls":8},"請求件数","請求金額\n（税抜）","請求金額\n（税込）",{"$nulls":6},"請求件数","税抜き単価","税込み単価","請求総額（税抜き）\n※システムエラーのチェック用","請求総額（税込み）"]
[null,"抗体検査",null,null,"①健診・HI法",{"$nulls":3},{"$f":"R23","v":0},{"$f":"U23","v":{"v":0,"d":"0 "}},{"v":0,"d":"0 "},{"$nulls":3},"抗体検査","①健診・HI法",null,null,{"$f":"共通部分マスター!D19","v":{"v":1290,"d":"1,290 "}},{"$f":"ROUNDDOWN(S23*(1+(共通部分マスター!$D$12)/100),0)","v":{"v":1419,"d":"1,419 "}},{"$f":"S23*R23","v":{"v":0,"d":"0 "}},{"$f":"T23*R23","v":{"v":0,"d":"0 "}}]
[{"$nulls":4},"②健診・EIA法",{"$nulls":3},0,{"v":0,"d":"0 "},{"v":0,"d":"0 "},{"$nulls":4},"②健診・EIA法",null,null,{"$f":"共通部分マスター!D20","v":{"v":2680,"d":"2,680 "}},{"$f":"ROUNDDOWN(S24*(1+(共通部分マスター!$D$12)/100),0)","v":{"v":2948,"d":"2,948 "}},{"v":0,"d":"0 "},{"$f":"T24*R24","v":{"v":0,"d":"0 "}}]
[{"$nulls":4},"③HI法",{"$nulls":3},0,{"v":0,"d":"0 "},{"v":0,"d":"0 "},{"$nulls":4},"③HI法",null,null,{"$f":"共通部分マスター!D21","v":{"v":4930,"d":"4,930 "}},{"$f":"ROUNDDOWN(S25*(1+(共通部分マスター!$D$12)/100),0)","v":{"v":5423,"d":"5,423 "}},{"v":0,"d":"0 "},{"v":0,"d":"0 "}]
[{"$nulls":4},"④EIA法",{"$nulls":3},0,{"v":0,"d":"0 "},{"v":0,"d":"0 "},{"$nulls":4},"④EIA法",null,null,{"$f":"共通部分マスター!D22","v":{"v":6320,"d":"6,320 "}},{"$f":"ROUNDDOWN(S26*(1+(共通部分マスター!$D$12)/100),0)","v":{"v":6952,"d":"6,952 "}},{"v":0,"d":"0 "},{"v":0,"d":"0 "}]
[{"$nulls":4},"⑤夜間休日・HI法",{"$nulls":3},0,{"v":0,"d":"0 "},{"v":0,"d":"0 "},{"$nulls":4},"⑤夜間休日・HI法",null,null,{"$f":"共通部分マスター!D23","v":{"v":5430,"d":"5,430 "}},{"$f":"ROUNDDOWN(S27*(1+(共通部分マスター!$D$12)/100),0)","v":{"v":5973,"d":"5,973 "}},{"v":0,"d":"0 "},{"v":0,"d":"0 "}]
[{"$nulls":4},"⑥夜間休日・EIA法",{"$nulls":3},0,{"v":0,"d":"0 "},{"v":0,"d":"0 "},{"$nulls":4},"⑥夜間休日・EIA法",null,null,{"$f":"共通部分マスター!D24","v":{"v":6820,"d":"6,820 "}},{"$f":"ROUNDDOWN(S28*(1+(共通部分マスター!$D$12)/100),0)","v":{"v":7502,"d":"7,502 "}},{"v":0,"d":"0 "},{"v":0,"d":"0 "}]
[{"$nulls":4},"小計",{"$nulls":3},0,{"v":0,"d":"0 "},{"v":0,"d":"0 "},{"$nulls":4},"小計",null,{"$f":"SUM(R23:R28)","v":0},null,null,{"$f":"SUM(U23:U28)","v":{"v":0,"d":"0 "}},{"$f":"SUM(V23:V28)","v":{"v":0,"d":"0 "}}]
[null,"予防接種",null,null,"通常",{"$nulls":3},0,{"v":0,"d":"0 "},{"v":0,"d":"0 "},{"$nulls":3},"予防接種","通常",{"$nulls":3},{"$f":"ROUNDDOWN(S30*(1+(共通部分マスター!$D$12)/100),0)","v":{"v":0,"d":"0 "}},{"$f":"S30*R30","v":{"v":0,"d":"0 "}},{"$f":"T30*R30","v":{"v":0,"d":"0 "}},"←予防接種関係の価格は市区町村で決定いたします。クーポンの下５桁に記載の金額を記載ください。"]
[{"$nulls":4},"予診のみ",{"$nulls":3},0,{"v":0,"d":"0 "},{"v":0,"d":"0 "},{"$nulls":4},"予診のみ",{"$nulls":3},{"$f":"ROUNDDOWN(S31*(1+(共通部分マスター!$D$12)/100),0)","v":{"v":0,"d":"0 "}},{"$f":"S31*R31","v":{"v":0,"d":"0 "}},{"$f":"T31*R31","v":{"v":0,"d":"0 "}},"  ※税込単価は、１円未満の端数は切り捨て"]
[{"$nulls":4},"小計",{"$nulls":3},0,{"$f":"SUM(J30:J31)","v":0},{"$f":"SUM(K30:K31)","v":0},{"$nulls":4},"小計",null,{"$f":"SUM(R30:R31)","v":0},null,null,{"$f":"SUM(U30:U31)","v":{"v":0,"d":"0 "}},{"$f":"SUM(V30:V31)","v":{"v":0,"d":"0 "}},"　※予診のみの費用を市町村が設定していない場合（０円の場合）は、本請求書に計上しないこと。その場合、予診票の原本を国民健康保険団体連合会に送付しないこと。"]
[null,"合計",{"$nulls":6},0,{"$f":"J32+J29","v":{"v":0,"d":"0 "}},{"$f":"K32+K29","v":{"v":0,"d":"0 "}},{"$nulls":3},"合計",null,null,{"$f":"R32+R29","v":0},null,null,{"$f":"U32+U29","v":{"v":0,"d":"0 "}},{"$f":"V32+V29","v":{"v":0,"d":"0 "}}]
[]
[{"$nulls":9},"消費税率",{"$f":"共通部分マスター!D12","v":10},"％"]
[null,"※予診のみの費用を市区町村が設定していない場合（０円の場合）は、本請"]
[null,"求書に計上しないこと。その場合、予診票の原本を国民健康保険団体連合会"]
[null,"に送付しないこと。"]